BEGIN:VCALENDAR
VERSION:2.0
PRODID:-//eventon.com NONSGML v1.0//EN
CALSCALE:GREGORIAN
METHOD:PUBLISH
BEGIN:VEVENT
UID:69e53057569f0
DTSTAMP:20260419T194319Z
DTSTART:20241130T083000Z
DTEND:20241130T163000Z
LOCATION:NH Palermo Foro Italico Umberto I\,  22/B\,  Palermo
SUMMARY:Corso di aggiornamento SUD e ISOLE Palermo
DESCRIPTION:&#8220;Promozione della salute nella donna in menopausa&#8221; 
 Silvia Ratti La menopausa è un passaggio fisiologico della vita di ogni do
 nna. I cambiamenti dell’equilibrio ormonale espongono le donne al rischio
  di alcune patologie e causano sintomi che variano da persona a persona. La
  prevenzione e la promozione della salute sono essenziali[..]\nhttps://www.
 registro-osteopati-italia.com/events/corso-di-aggiornamento-sud-e-isole-pal
 ermo/
URL:https://www.registro-osteopati-italia.com/events/corso-di-aggiornamento-sud-e-isole-palermo/
END:VEVENT
END:VCALENDAR